BEGIN:VCALENDAR
VERSION:2.0
PRODID:-//WABA - ECPv6.15.20//NONSGML v1.0//EN
CALSCALE:GREGORIAN
METHOD:PUBLISH
X-ORIGINAL-URL:http://wabainc.com
X-WR-CALDESC:Events for WABA
REFRESH-INTERVAL;VALUE=DURATION:PT1H
X-Robots-Tag:noindex
X-PUBLISHED-TTL:PT1H
BEGIN:VTIMEZONE
TZID:Australia/Perth
BEGIN:STANDARD
TZOFFSETFROM:+0800
TZOFFSETTO:+0800
TZNAME:AWST
DTSTART:20240101T000000
END:STANDARD
END:VTIMEZONE
BEGIN:VEVENT
DTSTART;TZID=Australia/Perth:20251108T130000
DTEND;TZID=Australia/Perth:20251108T230000
DTSTAMP:20260424T082820
CREATED:20250107T162450Z
LAST-MODIFIED:20250107T163136Z
UID:3787-1762606800-1762642800@wabainc.com
SUMMARY:WABA Mt. Claremont (Nov)
DESCRIPTION:This event is held on the second Saturday of each month. \nAt our Mt. Claremont meet there are often organised teaching sessions for particular games. You might want to check our Board Game Geek Guild to see if there are any organised sessions at the next meet. \nYou can see a list of all the games we have played so far. \n  \nNote that entry is free if this is your first WABA event.
URL:http://wabainc.com/event/waba-mt-claremont-nov-2025-2/
LOCATION:Mt Claremont Community Centre\, Montgomery Avenue\, Mt Claremont\, WA\, 6010\, Australia
CATEGORIES:WABA Mt. Claremont
ATTACH;FMTTYPE=image/jpeg:http://wabainc.com/wp-content/uploads/2024/02/waba-panorama1080p.jpg
END:VEVENT
END:VCALENDAR