BEGIN:VCALENDAR
VERSION:2.0
PRODID:-//WABA - ECPv6.15.20//NONSGML v1.0//EN
CALSCALE:GREGORIAN
METHOD:PUBLISH
X-ORIGINAL-URL:http://wabainc.com
X-WR-CALDESC:Events for WABA
REFRESH-INTERVAL;VALUE=DURATION:PT1H
X-Robots-Tag:noindex
X-PUBLISHED-TTL:PT1H
BEGIN:VTIMEZONE
TZID:Australia/Perth
BEGIN:STANDARD
TZOFFSETFROM:+0800
TZOFFSETTO:+0800
TZNAME:AWST
DTSTART:20250101T000000
END:STANDARD
END:VTIMEZONE
BEGIN:VEVENT
DTSTART;TZID=Australia/Perth:20260314T133000
DTEND;TZID=Australia/Perth:20260314T160000
DTSTAMP:20260424T071226
CREATED:20260304T025708Z
LAST-MODIFIED:20260304T025836Z
UID:3926-1773495000-1773504000@wabainc.com
SUMMARY:Flea Market - WABA Mt Claremont (March 2026)
DESCRIPTION:On 14 March 2026\, in the Hakea Room at our Mt Claremont meet\, The West Australian Boardgaming Association will be holding another Flea Market. \nWhat you need to know:\n Only WABA will be selling games\n There will be FIVE tables of games – each at a different price ($40\, $30\, $20\, $10\, $5)\n The Flea Market will open at 1.30pm (we’ll be setting up before that)\n At 2.30 the Market will close\, the room will be vacated and any remaining games will be moved down one price bracket\n The Market will then re-open\n This will happen again at 3.00\, 3.30 and 3.45 before the Market closes at 4pm \nYou are welcome to donate games for the flea market. If you can’t wait to buy another game\, reserve a game or two off of the WABA Games For Sale to Members Only list (https://boardgamegeek.com/geeklist/362576/waba-games-for-sale-to-members-only). \nCurrently there will be over 100 games for sale. \nCheck our post on boardgamegeek for up to date details: \nhttps://boardgamegeek.com/thread/3665041/five-table-flea-market-at-mt-claremont-in-march
URL:http://wabainc.com/event/waba-thornlie-may-2024-2-7-2-2/
LOCATION:Mt Claremont Community Centre\, Montgomery Avenue\, Mt Claremont\, WA\, 6010\, Australia
CATEGORIES:WABA Mt. Claremont,WABA NOR
ATTACH;FMTTYPE=image/jpeg:http://wabainc.com/wp-content/uploads/2025/11/flea-market.jpg
END:VEVENT
END:VCALENDAR