BEGIN:VCALENDAR
VERSION:2.0
PRODID:-//WABA - ECPv6.15.20//NONSGML v1.0//EN
CALSCALE:GREGORIAN
METHOD:PUBLISH
X-WR-CALNAME:WABA
X-ORIGINAL-URL:http://wabainc.com
X-WR-CALDESC:Events for WABA
REFRESH-INTERVAL;VALUE=DURATION:PT1H
X-Robots-Tag:noindex
X-PUBLISHED-TTL:PT1H
BEGIN:VTIMEZONE
TZID:Australia/Perth
BEGIN:STANDARD
TZOFFSETFROM:+0800
TZOFFSETTO:+0800
TZNAME:AWST
DTSTART:20250101T000000
END:STANDARD
END:VTIMEZONE
BEGIN:VEVENT
DTSTART;TZID=Australia/Perth:20260613T130000
DTEND;TZID=Australia/Perth:20260613T230000
DTSTAMP:20260424T033910
CREATED:20251215T134903Z
LAST-MODIFIED:20251215T134903Z
UID:3909-1781355600-1781391600@wabainc.com
SUMMARY:WABA Mt. Claremont (June)
DESCRIPTION:This event is held on the second Saturday of each month. \n  \nMount Claremont Community Centre \n105 Montgomery Avenue \nMt Claremont \n  \nEntry is $5\, or free if this is your first WABA event. \nAt our Mt. Claremont meet there are often organised teaching sessions for particular games. You might want to check our Board Game Geek Guild to see if there are any organised sessions at the next meet. \nYou can see a list of all the games we have played so far. \n 
URL:http://wabainc.com/event/waba-mt-claremont-jun-2026-6-13/
LOCATION:Mt Claremont Community Centre\, Montgomery Avenue\, Mt Claremont\, WA\, 6010\, Australia
CATEGORIES:WABA Mt. Claremont
ATTACH;FMTTYPE=image/jpeg:http://wabainc.com/wp-content/uploads/2024/02/waba-panorama1080p.jpg
END:VEVENT
BEGIN:VEVENT
DTSTART;TZID=Australia/Perth:20260627T130000
DTEND;TZID=Australia/Perth:20260627T230000
DTSTAMP:20260424T033910
CREATED:20251215T122429Z
LAST-MODIFIED:20251215T123320Z
UID:3875-1782565200-1782601200@wabainc.com
SUMMARY:WABA Willetton (June)
DESCRIPTION:The West Australian Boardgaming Association meets on the fourth Saturday of each month from 1pm – 11pm at: \nRostrata Family & Neighbourhood Centre\nPrendwick Reserve\nPrendwick Way (opposite Tilston Close)\nWilleton \nEntry is $5 or free if this is your first WABA event. Food vendors are a five minute drive away and there will be water and soft drinks for sale at the venue (proceeds to WABA). There is also a fridge and a microwave you can use if you want to. \nJoin 40+ gamers and try out lots of new and different games. \nGo here to find out more about boardgaming in Western Australia – http://www.boardgamegeek.com/guild/308 \n 
URL:http://wabainc.com/event/waba-willetton-jun-2026-6-27/
LOCATION:Rostrata Family Centre\, Prendwick Reserve\, Prendwick Way\, Willetton\, WA\, 6155\, Australia
CATEGORIES:WABA SOR,WABA Willetton
ATTACH;FMTTYPE=image/jpeg:http://wabainc.com/wp-content/uploads/2016/12/D-Con-02.jpeg
END:VEVENT
BEGIN:VEVENT
DTSTART;TZID=Australia/Perth:20260711T130000
DTEND;TZID=Australia/Perth:20260711T230000
DTSTAMP:20260424T033910
CREATED:20251215T135036Z
LAST-MODIFIED:20251215T135036Z
UID:3910-1783774800-1783810800@wabainc.com
SUMMARY:WABA Mt. Claremont (July)
DESCRIPTION:This event is held on the second Saturday of each month. \n  \nMount Claremont Community Centre \n105 Montgomery Avenue \nMt Claremont \n  \nEntry is $5\, or free if this is your first WABA event. \nAt our Mt. Claremont meet there are often organised teaching sessions for particular games. You might want to check our Board Game Geek Guild to see if there are any organised sessions at the next meet. \nYou can see a list of all the games we have played so far. \n 
URL:http://wabainc.com/event/waba-mt-claremont-jul-2026-7-11/
LOCATION:Mt Claremont Community Centre\, Montgomery Avenue\, Mt Claremont\, WA\, 6010\, Australia
CATEGORIES:WABA Mt. Claremont
ATTACH;FMTTYPE=image/jpeg:http://wabainc.com/wp-content/uploads/2024/02/waba-panorama1080p.jpg
END:VEVENT
BEGIN:VEVENT
DTSTART;TZID=Australia/Perth:20260725T130000
DTEND;TZID=Australia/Perth:20260725T230000
DTSTAMP:20260424T033910
CREATED:20251215T122505Z
LAST-MODIFIED:20251215T123358Z
UID:3874-1784984400-1785020400@wabainc.com
SUMMARY:WABA Willetton (July)
DESCRIPTION:The West Australian Boardgaming Association meets on the fourth Saturday of each month from 1pm – 11pm at: \nRostrata Family & Neighbourhood Centre\nPrendwick Reserve\nPrendwick Way (opposite Tilston Close)\nWilleton \nEntry is $5 or free if this is your first WABA event. Food vendors are a five minute drive away and there will be water and soft drinks for sale at the venue (proceeds to WABA). There is also a fridge and a microwave you can use if you want to. \nJoin 40+ gamers and try out lots of new and different games. \nGo here to find out more about boardgaming in Western Australia – http://www.boardgamegeek.com/guild/308 \n 
URL:http://wabainc.com/event/waba-willetton-jul-2026-7-25/
LOCATION:Rostrata Family Centre\, Prendwick Reserve\, Prendwick Way\, Willetton\, WA\, 6155\, Australia
CATEGORIES:WABA SOR,WABA Willetton
ATTACH;FMTTYPE=image/jpeg:http://wabainc.com/wp-content/uploads/2016/12/D-Con-02.jpeg
END:VEVENT
BEGIN:VEVENT
DTSTART;TZID=Australia/Perth:20260808T130000
DTEND;TZID=Australia/Perth:20260808T230000
DTSTAMP:20260424T033910
CREATED:20251215T135137Z
LAST-MODIFIED:20251215T135137Z
UID:3911-1786194000-1786230000@wabainc.com
SUMMARY:WABA Mt. Claremont (August)
DESCRIPTION:This event is held on the second Saturday of each month. \n  \nMount Claremont Community Centre \n105 Montgomery Avenue \nMt Claremont \n  \nEntry is $5\, or free if this is your first WABA event. \nAt our Mt. Claremont meet there are often organised teaching sessions for particular games. You might want to check our Board Game Geek Guild to see if there are any organised sessions at the next meet. \nYou can see a list of all the games we have played so far. \n 
URL:http://wabainc.com/event/waba-mt-claremont-aug-2026-8-8/
LOCATION:Mt Claremont Community Centre\, Montgomery Avenue\, Mt Claremont\, WA\, 6010\, Australia
CATEGORIES:WABA Mt. Claremont
ATTACH;FMTTYPE=image/jpeg:http://wabainc.com/wp-content/uploads/2024/02/waba-panorama1080p.jpg
END:VEVENT
BEGIN:VEVENT
DTSTART;TZID=Australia/Perth:20260822T130000
DTEND;TZID=Australia/Perth:20260822T230000
DTSTAMP:20260424T033910
CREATED:20251215T122533Z
LAST-MODIFIED:20251215T123440Z
UID:3873-1787403600-1787439600@wabainc.com
SUMMARY:WABA Willetton (August)
DESCRIPTION:The West Australian Boardgaming Association meets on the fourth Saturday of each month from 1pm – 11pm at: \nRostrata Family & Neighbourhood Centre\nPrendwick Reserve\nPrendwick Way (opposite Tilston Close)\nWilleton \nEntry is $5 or free if this is your first WABA event. Food vendors are a five minute drive away and there will be water and soft drinks for sale at the venue (proceeds to WABA). There is also a fridge and a microwave you can use if you want to. \nJoin 40+ gamers and try out lots of new and different games. \nGo here to find out more about boardgaming in Western Australia – http://www.boardgamegeek.com/guild/308 \n 
URL:http://wabainc.com/event/waba-willetton-aug-2026-8-22/
LOCATION:Rostrata Family Centre\, Prendwick Reserve\, Prendwick Way\, Willetton\, WA\, 6155\, Australia
CATEGORIES:WABA SOR,WABA Willetton
ATTACH;FMTTYPE=image/jpeg:http://wabainc.com/wp-content/uploads/2016/12/D-Con-02.jpeg
END:VEVENT
BEGIN:VEVENT
DTSTART;TZID=Australia/Perth:20260912T130000
DTEND;TZID=Australia/Perth:20260912T230000
DTSTAMP:20260424T033910
CREATED:20251215T135246Z
LAST-MODIFIED:20251215T135246Z
UID:3912-1789218000-1789254000@wabainc.com
SUMMARY:WABA Mt. Claremont (September)
DESCRIPTION:This event is held on the second Saturday of each month. \n  \nMount Claremont Community Centre \n105 Montgomery Avenue \nMt Claremont \n  \nEntry is $5\, or free if this is your first WABA event. \nAt our Mt. Claremont meet there are often organised teaching sessions for particular games. You might want to check our Board Game Geek Guild to see if there are any organised sessions at the next meet. \nYou can see a list of all the games we have played so far. \n 
URL:http://wabainc.com/event/waba-mt-claremont-sep-2026-9-12/
LOCATION:Mt Claremont Community Centre\, Montgomery Avenue\, Mt Claremont\, WA\, 6010\, Australia
CATEGORIES:WABA Mt. Claremont
ATTACH;FMTTYPE=image/jpeg:http://wabainc.com/wp-content/uploads/2024/02/waba-panorama1080p.jpg
END:VEVENT
BEGIN:VEVENT
DTSTART;TZID=Australia/Perth:20260926T130000
DTEND;TZID=Australia/Perth:20260926T230000
DTSTAMP:20260424T033910
CREATED:20251215T122603Z
LAST-MODIFIED:20251215T123533Z
UID:3872-1790427600-1790463600@wabainc.com
SUMMARY:WABA Willetton (September)
DESCRIPTION:The West Australian Boardgaming Association meets on the fourth Saturday of each month from 1pm – 11pm at: \nRostrata Family & Neighbourhood Centre\nPrendwick Reserve\nPrendwick Way (opposite Tilston Close)\nWilleton \nEntry is $5 or free if this is your first WABA event. Food vendors are a five minute drive away and there will be water and soft drinks for sale at the venue (proceeds to WABA). There is also a fridge and a microwave you can use if you want to. \nJoin 40+ gamers and try out lots of new and different games. \nGo here to find out more about boardgaming in Western Australia – http://www.boardgamegeek.com/guild/308 \n 
URL:http://wabainc.com/event/waba-thornlie-sep-2026-9-26/
LOCATION:Rostrata Family Centre\, Prendwick Reserve\, Prendwick Way\, Willetton\, WA\, 6155\, Australia
CATEGORIES:WABA SOR,WABA Willetton
ATTACH;FMTTYPE=image/jpeg:http://wabainc.com/wp-content/uploads/2016/12/D-Con-02.jpeg
END:VEVENT
BEGIN:VEVENT
DTSTART;TZID=Australia/Perth:20261010T130000
DTEND;TZID=Australia/Perth:20261010T230000
DTSTAMP:20260424T033910
CREATED:20251215T135348Z
LAST-MODIFIED:20251215T135348Z
UID:3913-1791637200-1791673200@wabainc.com
SUMMARY:WABA Mt. Claremont (October)
DESCRIPTION:This event is held on the second Saturday of each month. \n  \nMount Claremont Community Centre \n105 Montgomery Avenue \nMt Claremont \n  \nEntry is $5\, or free if this is your first WABA event. \nAt our Mt. Claremont meet there are often organised teaching sessions for particular games. You might want to check our Board Game Geek Guild to see if there are any organised sessions at the next meet. \nYou can see a list of all the games we have played so far. \n 
URL:http://wabainc.com/event/waba-mt-claremont-oct-2026-10-10/
LOCATION:Mt Claremont Community Centre\, Montgomery Avenue\, Mt Claremont\, WA\, 6010\, Australia
CATEGORIES:WABA Mt. Claremont
ATTACH;FMTTYPE=image/jpeg:http://wabainc.com/wp-content/uploads/2024/02/waba-panorama1080p.jpg
END:VEVENT
BEGIN:VEVENT
DTSTART;TZID=Australia/Perth:20261024T130000
DTEND;TZID=Australia/Perth:20261024T230000
DTSTAMP:20260424T033910
CREATED:20251215T122634Z
LAST-MODIFIED:20251215T123616Z
UID:3871-1792846800-1792882800@wabainc.com
SUMMARY:WABA Willetton (October)
DESCRIPTION:The West Australian Boardgaming Association meets on the fourth Saturday of each month from 1pm – 11pm at: \nRostrata Family & Neighbourhood Centre\nPrendwick Reserve\nPrendwick Way (opposite Tilston Close)\nWilleton \nEntry is $5 or free if this is your first WABA event. Food vendors are a five minute drive away and there will be water and soft drinks for sale at the venue (proceeds to WABA). There is also a fridge and a microwave you can use if you want to. \nJoin 40+ gamers and try out lots of new and different games. \nGo here to find out more about boardgaming in Western Australia – http://www.boardgamegeek.com/guild/308 \n 
URL:http://wabainc.com/event/waba-willetton-oct-2026-10-24/
LOCATION:Rostrata Family Centre\, Prendwick Reserve\, Prendwick Way\, Willetton\, WA\, 6155\, Australia
CATEGORIES:WABA SOR,WABA Willetton
ATTACH;FMTTYPE=image/jpeg:http://wabainc.com/wp-content/uploads/2016/12/D-Con-02.jpeg
END:VEVENT
BEGIN:VEVENT
DTSTART;TZID=Australia/Perth:20261114T130000
DTEND;TZID=Australia/Perth:20261114T230000
DTSTAMP:20260424T033910
CREATED:20251215T135438Z
LAST-MODIFIED:20251215T135438Z
UID:3914-1794661200-1794697200@wabainc.com
SUMMARY:WABA Mt. Claremont (November)
DESCRIPTION:This event is held on the second Saturday of each month. \n  \nMount Claremont Community Centre \n105 Montgomery Avenue \nMt Claremont \n  \nEntry is $5\, or free if this is your first WABA event. \nAt our Mt. Claremont meet there are often organised teaching sessions for particular games. You might want to check our Board Game Geek Guild to see if there are any organised sessions at the next meet. \nYou can see a list of all the games we have played so far. \n 
URL:http://wabainc.com/event/waba-mt-claremont-nov-2026-11-14/
LOCATION:Mt Claremont Community Centre\, Montgomery Avenue\, Mt Claremont\, WA\, 6010\, Australia
CATEGORIES:WABA Mt. Claremont
ATTACH;FMTTYPE=image/jpeg:http://wabainc.com/wp-content/uploads/2024/02/waba-panorama1080p.jpg
END:VEVENT
BEGIN:VEVENT
DTSTART;TZID=Australia/Perth:20261128T130000
DTEND;TZID=Australia/Perth:20261128T230000
DTSTAMP:20260424T033910
CREATED:20251215T122702Z
LAST-MODIFIED:20251215T123654Z
UID:3870-1795870800-1795906800@wabainc.com
SUMMARY:WABA Willetton (November)
DESCRIPTION:The West Australian Boardgaming Association meets on the fourth Saturday of each month from 1pm – 11pm at: \nRostrata Family & Neighbourhood Centre\nPrendwick Reserve\nPrendwick Way (opposite Tilston Close)\nWilleton \nEntry is $5 or free if this is your first WABA event. Food vendors are a five minute drive away and there will be water and soft drinks for sale at the venue (proceeds to WABA). There is also a fridge and a microwave you can use if you want to. \nJoin 40+ gamers and try out lots of new and different games. \nGo here to find out more about boardgaming in Western Australia – http://www.boardgamegeek.com/guild/308 \n 
URL:http://wabainc.com/event/waba-willetton-nov-2026-11-28/
LOCATION:Rostrata Family Centre\, Prendwick Reserve\, Prendwick Way\, Willetton\, WA\, 6155\, Australia
CATEGORIES:WABA SOR,WABA Willetton
ATTACH;FMTTYPE=image/jpeg:http://wabainc.com/wp-content/uploads/2016/12/D-Con-02.jpeg
END:VEVENT
END:VCALENDAR