BEGIN:VCALENDAR
VERSION:2.0
PRODID:-//WABA - ECPv6.15.20//NONSGML v1.0//EN
CALSCALE:GREGORIAN
METHOD:PUBLISH
X-ORIGINAL-URL:http://wabainc.com
X-WR-CALDESC:Events for WABA
REFRESH-INTERVAL;VALUE=DURATION:PT1H
X-Robots-Tag:noindex
X-PUBLISHED-TTL:PT1H
BEGIN:VTIMEZONE
TZID:Australia/Perth
BEGIN:STANDARD
TZOFFSETFROM:+0800
TZOFFSETTO:+0800
TZNAME:AWST
DTSTART:20250101T000000
END:STANDARD
END:VTIMEZONE
BEGIN:VEVENT
DTSTART;TZID=Australia/Perth:20261024T130000
DTEND;TZID=Australia/Perth:20261024T230000
DTSTAMP:20260424T071701
CREATED:20251215T122634Z
LAST-MODIFIED:20251215T123616Z
UID:3871-1792846800-1792882800@wabainc.com
SUMMARY:WABA Willetton (October)
DESCRIPTION:The West Australian Boardgaming Association meets on the fourth Saturday of each month from 1pm – 11pm at: \nRostrata Family & Neighbourhood Centre\nPrendwick Reserve\nPrendwick Way (opposite Tilston Close)\nWilleton \nEntry is $5 or free if this is your first WABA event. Food vendors are a five minute drive away and there will be water and soft drinks for sale at the venue (proceeds to WABA). There is also a fridge and a microwave you can use if you want to. \nJoin 40+ gamers and try out lots of new and different games. \nGo here to find out more about boardgaming in Western Australia – http://www.boardgamegeek.com/guild/308 \n 
URL:http://wabainc.com/event/waba-willetton-oct-2026-10-24/
LOCATION:Rostrata Family Centre\, Prendwick Reserve\, Prendwick Way\, Willetton\, WA\, 6155\, Australia
CATEGORIES:WABA SOR,WABA Willetton
ATTACH;FMTTYPE=image/jpeg:http://wabainc.com/wp-content/uploads/2016/12/D-Con-02.jpeg
END:VEVENT
BEGIN:VEVENT
DTSTART;TZID=Australia/Perth:20261114T130000
DTEND;TZID=Australia/Perth:20261114T230000
DTSTAMP:20260424T071701
CREATED:20251215T135438Z
LAST-MODIFIED:20251215T135438Z
UID:3914-1794661200-1794697200@wabainc.com
SUMMARY:WABA Mt. Claremont (November)
DESCRIPTION:This event is held on the second Saturday of each month. \n  \nMount Claremont Community Centre \n105 Montgomery Avenue \nMt Claremont \n  \nEntry is $5\, or free if this is your first WABA event. \nAt our Mt. Claremont meet there are often organised teaching sessions for particular games. You might want to check our Board Game Geek Guild to see if there are any organised sessions at the next meet. \nYou can see a list of all the games we have played so far. \n 
URL:http://wabainc.com/event/waba-mt-claremont-nov-2026-11-14/
LOCATION:Mt Claremont Community Centre\, Montgomery Avenue\, Mt Claremont\, WA\, 6010\, Australia
CATEGORIES:WABA Mt. Claremont
ATTACH;FMTTYPE=image/jpeg:http://wabainc.com/wp-content/uploads/2024/02/waba-panorama1080p.jpg
END:VEVENT
BEGIN:VEVENT
DTSTART;TZID=Australia/Perth:20261128T130000
DTEND;TZID=Australia/Perth:20261128T230000
DTSTAMP:20260424T071701
CREATED:20251215T122702Z
LAST-MODIFIED:20251215T123654Z
UID:3870-1795870800-1795906800@wabainc.com
SUMMARY:WABA Willetton (November)
DESCRIPTION:The West Australian Boardgaming Association meets on the fourth Saturday of each month from 1pm – 11pm at: \nRostrata Family & Neighbourhood Centre\nPrendwick Reserve\nPrendwick Way (opposite Tilston Close)\nWilleton \nEntry is $5 or free if this is your first WABA event. Food vendors are a five minute drive away and there will be water and soft drinks for sale at the venue (proceeds to WABA). There is also a fridge and a microwave you can use if you want to. \nJoin 40+ gamers and try out lots of new and different games. \nGo here to find out more about boardgaming in Western Australia – http://www.boardgamegeek.com/guild/308 \n 
URL:http://wabainc.com/event/waba-willetton-nov-2026-11-28/
LOCATION:Rostrata Family Centre\, Prendwick Reserve\, Prendwick Way\, Willetton\, WA\, 6155\, Australia
CATEGORIES:WABA SOR,WABA Willetton
ATTACH;FMTTYPE=image/jpeg:http://wabainc.com/wp-content/uploads/2016/12/D-Con-02.jpeg
END:VEVENT
END:VCALENDAR