BEGIN:VCALENDAR
VERSION:2.0
PRODID:-//WABA - ECPv6.15.20//NONSGML v1.0//EN
CALSCALE:GREGORIAN
METHOD:PUBLISH
X-ORIGINAL-URL:http://wabainc.com
X-WR-CALDESC:Events for WABA
REFRESH-INTERVAL;VALUE=DURATION:PT1H
X-Robots-Tag:noindex
X-PUBLISHED-TTL:PT1H
BEGIN:VTIMEZONE
TZID:Australia/Perth
BEGIN:STANDARD
TZOFFSETFROM:+0800
TZOFFSETTO:+0800
TZNAME:AWST
DTSTART:20240101T000000
END:STANDARD
END:VTIMEZONE
BEGIN:VEVENT
DTSTART;TZID=Australia/Perth:20250308T130000
DTEND;TZID=Australia/Perth:20250308T230000
DTSTAMP:20260424T205107
CREATED:20250107T161140Z
LAST-MODIFIED:20250107T161140Z
UID:3763-1741438800-1741474800@wabainc.com
SUMMARY:WABA Mt. Claremont (Mar)
DESCRIPTION:This event is held on the second Saturday of each month. \nAt our Mt. Claremont meet there are often organised teaching sessions for particular games. You might want to check our Board Game Geek Guild to see if there are any organised sessions at the next meet. \nYou can see a list of all the games we have played so far. \n  \nNote that entry is free if this is your first WABA event.
URL:http://wabainc.com/event/waba-mt-claremont-mar-2024-2/
LOCATION:Mt Claremont Community Centre\, Montgomery Avenue\, Mt Claremont\, WA\, 6010\, Australia
CATEGORIES:WABA Mt. Claremont
ATTACH;FMTTYPE=image/jpeg:http://wabainc.com/wp-content/uploads/2024/02/waba-panorama1080p.jpg
END:VEVENT
BEGIN:VEVENT
DTSTART;TZID=Australia/Perth:20250322T130000
DTEND;TZID=Australia/Perth:20250322T200000
DTSTAMP:20260424T205107
CREATED:20250107T161219Z
LAST-MODIFIED:20250223T022945Z
UID:3754-1742648400-1742673600@wabainc.com
SUMMARY:WABA Thornlie (Mar)
DESCRIPTION:This will be our final event held at our much loved current venue in Thornlie and we will be finishing up at an earlier time of 8pm to allow us time to remove our property from the premises. We are currently searching for a suitable new home for our SOR events and we’ll update once we have news. \nOur Thornlie meet is usually on the fourth Saturday of each month.  \nWe play all kinds of games\, however the Thornlie meet has become a favourite venue for those who wish to play longer games. You might want to check our Board Game Geek Guild to see if any big games are being organised for the next meet. \nNote that entry is free if this is your first WABA event. \nFood vendors are a five minute walk away and there is also a fridge and a microwave available.\nSoft drinks are also for sale at the venue (proceeds to WABA).
URL:http://wabainc.com/event/waba-thornlie-mar-2024-2/
LOCATION:The Forest Lakes / Thornlie Family Centre\, 39 Towncentre Drive\, Thornlie\, WA\, 6108\, Australia
CATEGORIES:WABA Thornlie
ATTACH;FMTTYPE=image/jpeg:http://wabainc.com/wp-content/uploads/2016/12/D-Con-02.jpeg
END:VEVENT
END:VCALENDAR