BEGIN:VCALENDAR
VERSION:2.0
PRODID:-//WABA - ECPv6.15.20//NONSGML v1.0//EN
CALSCALE:GREGORIAN
METHOD:PUBLISH
X-ORIGINAL-URL:http://wabainc.com
X-WR-CALDESC:Events for WABA
REFRESH-INTERVAL;VALUE=DURATION:PT1H
X-Robots-Tag:noindex
X-PUBLISHED-TTL:PT1H
BEGIN:VTIMEZONE
TZID:Australia/Perth
BEGIN:STANDARD
TZOFFSETFROM:+0800
TZOFFSETTO:+0800
TZNAME:AWST
DTSTART:20240101T000000
END:STANDARD
END:VTIMEZONE
BEGIN:VEVENT
DTSTART;TZID=Australia/Perth:20250913T130000
DTEND;TZID=Australia/Perth:20250913T230000
DTSTAMP:20260424T101251
CREATED:20250107T162338Z
LAST-MODIFIED:20250907T154512Z
UID:3785-1757768400-1757804400@wabainc.com
SUMMARY:WABA Mt. Claremont and AGM (Sept)
DESCRIPTION:This event is held on the second Saturday of each month. \nThis months meet will commence with our AGM at approximately 1.15pm with an expected conclusion at approximately 2.15pm and our normal WABA meet starting at 2.30pm. You must be an eligible member at the time of the AGM to take part in the AGM. \nAt our Mt. Claremont meet there are often organised teaching sessions for particular games. You might want to check our Board Game Geek Guild to see if there are any organised sessions at the next meet. \nYou can see a list of all the games we have played so far. \n  \nNote that entry is free if this is your first WABA event.
URL:http://wabainc.com/event/waba-mt-claremont-sept-2024-2/
LOCATION:Mt Claremont Community Centre\, Montgomery Avenue\, Mt Claremont\, WA\, 6010\, Australia
CATEGORIES:WABA Mt. Claremont
ATTACH;FMTTYPE=image/jpeg:http://wabainc.com/wp-content/uploads/2024/02/waba-panorama1080p.jpg
END:VEVENT
BEGIN:VEVENT
DTSTART;TZID=Australia/Perth:20250927T130000
DTEND;TZID=Australia/Perth:20250927T230000
DTSTAMP:20260424T101251
CREATED:20250502T154144Z
LAST-MODIFIED:20250502T154144Z
UID:3826-1758978000-1759014000@wabainc.com
SUMMARY:WABA Willetton (September)
DESCRIPTION:The West Australian Boardgaming Association meets on the fourth Saturday of each month from 1pm – 11pm at: \nRostrata Family & Neighbourhood Centre\nPrendwick Reserve\nPrendwick Way (opposite Tilston Close)\nWilleton \nEntry is $5 or free if this is your first WABA event. Food vendors are a five minute drive away and there will be water and soft drinks for sale at the venue (proceeds to WABA). There is also a fridge and a microwave you can use if you want to. \nJoin 40+ gamers and try out lots of new and different games. \nGo here to find out more about boardgaming in Western Australia – http://www.boardgamegeek.com/guild/308 \n 
URL:http://wabainc.com/event/waba-thornlie-may-2024-2-5/
LOCATION:Rostrata Family Centre\, Prendwick Reserve\, Prendwick Way\, Willetton\, WA\, 6155\, Australia
CATEGORIES:WABA SOR,WABA Willetton
ATTACH;FMTTYPE=image/jpeg:http://wabainc.com/wp-content/uploads/2016/12/D-Con-02.jpeg
END:VEVENT
END:VCALENDAR