BEGIN:VCALENDAR
VERSION:2.0
PRODID:-//WABA - ECPv6.15.20//NONSGML v1.0//EN
CALSCALE:GREGORIAN
METHOD:PUBLISH
X-WR-CALNAME:WABA
X-ORIGINAL-URL:https://wabainc.com
X-WR-CALDESC:Events for WABA
REFRESH-INTERVAL;VALUE=DURATION:PT1H
X-Robots-Tag:noindex
X-PUBLISHED-TTL:PT1H
BEGIN:VTIMEZONE
TZID:Australia/Perth
BEGIN:STANDARD
TZOFFSETFROM:+0800
TZOFFSETTO:+0800
TZNAME:AWST
DTSTART:20240101T000000
END:STANDARD
END:VTIMEZONE
BEGIN:VEVENT
DTSTART;TZID=Australia/Perth:20250111T130000
DTEND;TZID=Australia/Perth:20250111T230000
DTSTAMP:20260425T012104
CREATED:20250107T160246Z
LAST-MODIFIED:20250107T163715Z
UID:3758-1736600400-1736636400@wabainc.com
SUMMARY:WABA Thornlie instead of Mt Claremont (Jan)
DESCRIPTION:Our regular Mt Claremont meet will NOT be taking place for 11 January 2025. Instead this meet will be held at Thornlie. Mt Claremont meets will resume on the 2nd Saturday of each month from 8th February 2025. \n  \nWe usually meet at Mt Claremont on the second Saturday of each month. \nAt our Mt. Claremont meet there are often organised teaching sessions for particular games. You might want to check our Board Game Geek Guild to see if there are any organised sessions at the next meet. \nYou can see a list of all the games we have played so far. \n  \nNote that entry is free if this is your first WABA event.
URL:https://wabainc.com/event/waba-mt-claremont-jan-2025-2/
LOCATION:The Forest Lakes / Thornlie Family Centre\, 39 Towncentre Drive\, Thornlie\, WA\, 6108\, Australia
CATEGORIES:WABA Mt. Claremont,WABA Thornlie
ATTACH;FMTTYPE=image/jpeg:https://wabainc.com/wp-content/uploads/2016/11/EVENTS-05b.jpg
END:VEVENT
END:VCALENDAR