BEGIN:VCALENDAR
VERSION:2.0
PRODID:-//WABA - ECPv6.15.20//NONSGML v1.0//EN
CALSCALE:GREGORIAN
METHOD:PUBLISH
X-ORIGINAL-URL:https://wabainc.com
X-WR-CALDESC:Events for WABA
REFRESH-INTERVAL;VALUE=DURATION:PT1H
X-Robots-Tag:noindex
X-PUBLISHED-TTL:PT1H
BEGIN:VTIMEZONE
TZID:Australia/Perth
BEGIN:STANDARD
TZOFFSETFROM:+0800
TZOFFSETTO:+0800
TZNAME:AWST
DTSTART:20170101T000000
END:STANDARD
END:VTIMEZONE
BEGIN:VEVENT
DTSTART;TZID=Australia/Perth:20210410T130000
DTEND;TZID=Australia/Perth:20210410T230000
DTSTAMP:20260424T104642
CREATED:20210102T091020Z
LAST-MODIFIED:20210102T091020Z
UID:3479-1618059600-1618095600@wabainc.com
SUMMARY:WABA Mt. Claremont (Apr)
DESCRIPTION:This event is held on the second Saturday of each month. \nAt our Mt. Claremont meet there are often organised teaching sessions for particular games. You might want to check our Board Game Geek Guild to see if there are any organised sessions at the next meet. \nYou can see a list of all the games we have played so far. \n  \nNote that entry is free if this is your first WABA event.
URL:https://wabainc.com/event/waba-mt-claremont-apr-2021/
LOCATION:Mt Claremont Community Centre\, Montgomery Avenue\, Mt Claremont\, WA\, 6010\, Australia
CATEGORIES:WABA Mt. Claremont
ATTACH;FMTTYPE=image/jpeg:https://wabainc.com/wp-content/uploads/2016/11/EVENTS-05b.jpg
END:VEVENT
BEGIN:VEVENT
DTSTART;TZID=Australia/Perth:20210313T130000
DTEND;TZID=Australia/Perth:20210313T230000
DTSTAMP:20260424T104642
CREATED:20210102T090848Z
LAST-MODIFIED:20220104T100839Z
UID:3480-1615640400-1615676400@wabainc.com
SUMMARY:WABA Mt. Claremont (Mar)
DESCRIPTION:This event is held on the second Saturday of each month. \nAt our Mt. Claremont meet there are often organised teaching sessions for particular games. You might want to check our Board Game Geek Guild to see if there are any organised sessions at the next meet. \nYou can see a list of all the games we have played so far. \n  \nNote that entry is free if this is your first WABA event.
URL:https://wabainc.com/event/waba-mt-claremont-mar-2021/
LOCATION:Mt Claremont Community Centre\, Montgomery Avenue\, Mt Claremont\, WA\, 6010\, Australia
CATEGORIES:WABA Mt. Claremont
ATTACH;FMTTYPE=image/jpeg:https://wabainc.com/wp-content/uploads/2016/11/EVENTS-05b.jpg
END:VEVENT
BEGIN:VEVENT
DTSTART;TZID=Australia/Perth:20210109T130000
DTEND;TZID=Australia/Perth:20210109T230000
DTSTAMP:20260424T104642
CREATED:20210102T090614Z
LAST-MODIFIED:20220206T142849Z
UID:3482-1610197200-1610233200@wabainc.com
SUMMARY:WABA Mt. Claremont (Jan)
DESCRIPTION:This event is held on the second Saturday of each month. \nAt our Mt. Claremont meet there are often organised teaching sessions for particular games. You might want to check our Board Game Geek Guild to see if there are any organised sessions at the next meet. \nYou can see a list of all the games we have played so far. \n  \nNote that entry is free if this is your first WABA event.
URL:https://wabainc.com/event/waba-mt-claremont-jan-2021/
LOCATION:Mt Claremont Community Centre\, Montgomery Avenue\, Mt Claremont\, WA\, 6010\, Australia
CATEGORIES:WABA Mt. Claremont
ATTACH;FMTTYPE=image/jpeg:https://wabainc.com/wp-content/uploads/2016/11/EVENTS-05b.jpg
END:VEVENT
BEGIN:VEVENT
DTSTART;TZID=Australia/Perth:20201212T110000
DTEND;TZID=Australia/Perth:20201212T230000
DTSTAMP:20260424T104642
CREATED:20190918T140002Z
LAST-MODIFIED:20190918T140200Z
UID:3423-1607770800-1607814000@wabainc.com
SUMMARY:D-Con 2020
DESCRIPTION:This is our last and biggest boardgaming meet of 2020! Please note the extended hours and other differences and events as will be highlighted. \nCome play modern boardgames\, learning new games or revisiting favourite ones. WABA meets on the second Saturday of every month at the Mt Claremont Community Centre (Banksia Room) 107 Montgomery Avenue Mt Claremont. \nD-Con 2020 is free for WABA members and first-timers to a WABA meet (only $5 otherwise). There will be tournaments and door prizes throughout the day. \nFind us on BoardGameGeek at https://boardgamegeek.com/guild/308
URL:https://wabainc.com/event/d-con-2020-waba-mt-claremont/
LOCATION:Mt Claremont Community Centre\, Montgomery Avenue\, Mt Claremont\, WA\, 6010\, Australia
CATEGORIES:WABA Mt. Claremont
ATTACH;FMTTYPE=image/jpeg:https://wabainc.com/wp-content/uploads/2016/12/D-Con-07.jpeg
END:VEVENT
BEGIN:VEVENT
DTSTART;TZID=Australia/Perth:20201114T130000
DTEND;TZID=Australia/Perth:20201114T230000
DTSTAMP:20260424T104642
CREATED:20190918T135520Z
LAST-MODIFIED:20190918T135759Z
UID:3420-1605358800-1605394800@wabainc.com
SUMMARY:WABA Mt. Claremont (Nov)
DESCRIPTION:This event is held on the second Saturday of each month. \nAt our Mt. Claremont meet there are often organised teaching sessions for particular games. You might want to check our Board Game Geek Guild to see if there are any organised sessions at the next meet. \nYou can see a list of all the games we have played so far. \n  \nNote that entry is free if this is your first WABA event.
URL:https://wabainc.com/event/waba-mt-claremont-nov-2020-2/
LOCATION:Mt Claremont Community Centre\, Montgomery Avenue\, Mt Claremont\, WA\, 6010\, Australia
CATEGORIES:WABA Mt. Claremont
ATTACH;FMTTYPE=image/jpeg:https://wabainc.com/wp-content/uploads/2016/11/EVENTS-05b.jpg
END:VEVENT
BEGIN:VEVENT
DTSTART;TZID=Australia/Perth:20201010T130000
DTEND;TZID=Australia/Perth:20201010T230000
DTSTAMP:20260424T104642
CREATED:20190918T135304Z
LAST-MODIFIED:20190918T135428Z
UID:3416-1602334800-1602370800@wabainc.com
SUMMARY:WABA Mt. Claremont (Oct)
DESCRIPTION:This event is held on the second Saturday of each month. \nAt our Mt. Claremont meet there are often organised teaching sessions for particular games. You might want to check our Board Game Geek Guild to see if there are any organised sessions at the next meet. \nYou can see a list of all the games we have played so far. \n  \nNote that entry is free if this is your first WABA event.
URL:https://wabainc.com/event/waba-mt-claremont-oct-2020/
LOCATION:Mt Claremont Community Centre\, Montgomery Avenue\, Mt Claremont\, WA\, 6010\, Australia
CATEGORIES:WABA Mt. Claremont
ATTACH;FMTTYPE=image/jpeg:https://wabainc.com/wp-content/uploads/2016/11/EVENTS-05b.jpg
END:VEVENT
BEGIN:VEVENT
DTSTART;TZID=Australia/Perth:20200912T130000
DTEND;TZID=Australia/Perth:20200912T230000
DTSTAMP:20260424T104642
CREATED:20190918T135109Z
LAST-MODIFIED:20190918T135229Z
UID:3412-1599915600-1599951600@wabainc.com
SUMMARY:WABA Mt. Claremont (Sept)
DESCRIPTION:This event is held on the second Saturday of each month. \nAt our Mt. Claremont meet there are often organised teaching sessions for particular games. You might want to check our Board Game Geek Guild to see if there are any organised sessions at the next meet. \nYou can see a list of all the games we have played so far. \n  \nNote that entry is free if this is your first WABA event.
URL:https://wabainc.com/event/waba-mt-claremont-sept-2020/
LOCATION:Mt Claremont Community Centre\, Montgomery Avenue\, Mt Claremont\, WA\, 6010\, Australia
CATEGORIES:WABA Mt. Claremont
ATTACH;FMTTYPE=image/jpeg:https://wabainc.com/wp-content/uploads/2016/11/EVENTS-05b.jpg
END:VEVENT
BEGIN:VEVENT
DTSTART;TZID=Australia/Perth:20200808T130000
DTEND;TZID=Australia/Perth:20200808T230000
DTSTAMP:20260424T104642
CREATED:20190918T134730Z
LAST-MODIFIED:20190918T135027Z
UID:3408-1596891600-1596927600@wabainc.com
SUMMARY:WABA Mt. Claremont (Aug)
DESCRIPTION:This event is held on the second Saturday of each month. \nAt our Mt. Claremont meet there are often organised teaching sessions for particular games. You might want to check our Board Game Geek Guild to see if there are any organised sessions at the next meet. \nYou can see a list of all the games we have played so far. \n  \nNote that entry is free if this is your first WABA event.
URL:https://wabainc.com/event/waba-mt-claremont-aug-2020/
LOCATION:Mt Claremont Community Centre\, Montgomery Avenue\, Mt Claremont\, WA\, 6010\, Australia
CATEGORIES:WABA Mt. Claremont
ATTACH;FMTTYPE=image/jpeg:https://wabainc.com/wp-content/uploads/2016/11/EVENTS-05b.jpg
END:VEVENT
BEGIN:VEVENT
DTSTART;TZID=Australia/Perth:20200314T130000
DTEND;TZID=Australia/Perth:20200314T230000
DTSTAMP:20260424T104642
CREATED:20190918T133232Z
LAST-MODIFIED:20190918T133336Z
UID:3388-1584190800-1584226800@wabainc.com
SUMMARY:WABA Mt. Claremont (Mar)
DESCRIPTION:This event is held on the second Saturday of each month. \nAt our Mt. Claremont meet there are often organised teaching sessions for particular games. You might want to check our Board Game Geek Guild to see if there are any organised sessions at the next meet. \nYou can see a list of all the games we have played so far. \n  \nNote that entry is free if this is your first WABA event.
URL:https://wabainc.com/event/waba-mt-claremont-mar-2020/
LOCATION:Mt Claremont Community Centre\, Montgomery Avenue\, Mt Claremont\, WA\, 6010\, Australia
CATEGORIES:WABA Mt. Claremont
ATTACH;FMTTYPE=image/jpeg:https://wabainc.com/wp-content/uploads/2016/11/EVENTS-05b.jpg
END:VEVENT
BEGIN:VEVENT
DTSTART;TZID=Australia/Perth:20200208T130000
DTEND;TZID=Australia/Perth:20200208T230000
DTSTAMP:20260424T104642
CREATED:20190918T132838Z
LAST-MODIFIED:20190918T140308Z
UID:3382-1581166800-1581202800@wabainc.com
SUMMARY:WABA Mt. Claremont (Feb)
DESCRIPTION:This event is held on the second Saturday of each month. \nAt our Mt. Claremont meet there are often organised teaching sessions for particular games. You might want to check our Board Game Geek Guild to see if there are any organised sessions at the next meet. \nYou can see a list of all the games we have played so far. \n  \nNote that entry is free if this is your first WABA event.
URL:https://wabainc.com/event/waba-mt-claremont-feb-2020/
LOCATION:Mt Claremont Community Centre\, Montgomery Avenue\, Mt Claremont\, WA\, 6010\, Australia
CATEGORIES:WABA Mt. Claremont
ATTACH;FMTTYPE=image/jpeg:https://wabainc.com/wp-content/uploads/2016/11/EVENTS-05b.jpg
END:VEVENT
BEGIN:VEVENT
DTSTART;TZID=Australia/Perth:20200111T130000
DTEND;TZID=Australia/Perth:20200111T230000
DTSTAMP:20260424T104642
CREATED:20190918T132230Z
LAST-MODIFIED:20190918T132803Z
UID:3376-1578747600-1578783600@wabainc.com
SUMMARY:WABA Mt. Claremont (Jan)
DESCRIPTION:This event is held on the second Saturday of each month. \nAt our Mt. Claremont meet there are often organised teaching sessions for particular games. You might want to check our Board Game Geek Guild to see if there are any organised sessions at the next meet. \nYou can see a list of all the games we have played so far. \n  \nNote that entry is free if this is your first WABA event.
URL:https://wabainc.com/event/waba-mt-claremont-jan-2020/
LOCATION:Mt Claremont Community Centre\, Montgomery Avenue\, Mt Claremont\, WA\, 6010\, Australia
CATEGORIES:WABA Mt. Claremont
ATTACH;FMTTYPE=image/jpeg:https://wabainc.com/wp-content/uploads/2016/11/EVENTS-05b.jpg
END:VEVENT
BEGIN:VEVENT
DTSTART;TZID=Australia/Perth:20191214T110000
DTEND;TZID=Australia/Perth:20191214T230000
DTSTAMP:20260424T104642
CREATED:20190409T144721Z
LAST-MODIFIED:20190409T144721Z
UID:3347-1576321200-1576364400@wabainc.com
SUMMARY:D-Con 2019
DESCRIPTION:This is our last and biggest boardgaming meet of 2019! Please note the extended hours and other differences and events as will be highlighted. \nCome play modern boardgames\, learning new games or revisiting favourite ones. WABA meets on the second Saturday of every month at the Mt Claremont Community Centre (Banksia Room) 107 Montgomery Avenue Mt Claremont. \nD-Con 2019 is free for WABA members and first-timers to a WABA meet (only $5 otherwise). There will be tournaments and door prizes throughout the day. More details to be announced. \nFind us on BoardGameGeek at https://boardgamegeek.com/guild/308
URL:https://wabainc.com/event/d-con-2019-waba-mt-claremont/
LOCATION:Mt Claremont Community Centre\, Montgomery Avenue\, Mt Claremont\, WA\, 6010\, Australia
CATEGORIES:WABA Mt. Claremont
ATTACH;FMTTYPE=image/jpeg:https://wabainc.com/wp-content/uploads/2016/12/D-Con-07.jpeg
END:VEVENT
BEGIN:VEVENT
DTSTART;TZID=Australia/Perth:20191109T130000
DTEND;TZID=Australia/Perth:20191109T230000
DTSTAMP:20260424T104642
CREATED:20190409T144302Z
LAST-MODIFIED:20190409T144302Z
UID:3343-1573304400-1573340400@wabainc.com
SUMMARY:WABA Mt. Claremont (Nov)
DESCRIPTION:This event is held on the second Saturday of each month. \nAt our Mt. Claremont meet there are often organised teaching sessions for particular games. You might want to check our Board Game Geek Guild to see if there are any organised sessions at the next meet. \nYou can see a list of all the games we have played so far. \n  \nNote that entry is free if this is your first WABA event.
URL:https://wabainc.com/event/waba-mt-claremont-nov-19/
LOCATION:Mt Claremont Community Centre\, Montgomery Avenue\, Mt Claremont\, WA\, 6010\, Australia
CATEGORIES:WABA Mt. Claremont
ATTACH;FMTTYPE=image/jpeg:https://wabainc.com/wp-content/uploads/2016/11/EVENTS-05b.jpg
END:VEVENT
BEGIN:VEVENT
DTSTART;TZID=Australia/Perth:20191012T130000
DTEND;TZID=Australia/Perth:20191012T230000
DTSTAMP:20260424T104642
CREATED:20190409T144130Z
LAST-MODIFIED:20190409T144130Z
UID:3339-1570885200-1570921200@wabainc.com
SUMMARY:WABA Mt. Claremont (Oct)
DESCRIPTION:This event is held on the second Saturday of each month. \nAt our Mt. Claremont meet there are often organised teaching sessions for particular games. You might want to check our Board Game Geek Guild to see if there are any organised sessions at the next meet. \nYou can see a list of all the games we have played so far. \n  \nNote that entry is free if this is your first WABA event.
URL:https://wabainc.com/event/waba-mt-claremont-oct-19/
LOCATION:Mt Claremont Community Centre\, Montgomery Avenue\, Mt Claremont\, WA\, 6010\, Australia
CATEGORIES:WABA Mt. Claremont
ATTACH;FMTTYPE=image/jpeg:https://wabainc.com/wp-content/uploads/2016/11/EVENTS-05b.jpg
END:VEVENT
BEGIN:VEVENT
DTSTART;TZID=Australia/Perth:20190914T130000
DTEND;TZID=Australia/Perth:20190914T230000
DTSTAMP:20260424T104642
CREATED:20190409T143913Z
LAST-MODIFIED:20190409T143913Z
UID:3335-1568466000-1568502000@wabainc.com
SUMMARY:WABA Mt. Claremont (Sept)
DESCRIPTION:This event is held on the second Saturday of each month. \nAt our Mt. Claremont meet there are often organised teaching sessions for particular games. You might want to check our Board Game Geek Guild to see if there are any organised sessions at the next meet. \nYou can see a list of all the games we have played so far. \n  \nNote that entry is free if this is your first WABA event.
URL:https://wabainc.com/event/waba-mt-claremont-sept-19/
LOCATION:Mt Claremont Community Centre\, Montgomery Avenue\, Mt Claremont\, WA\, 6010\, Australia
CATEGORIES:WABA Mt. Claremont
ATTACH;FMTTYPE=image/jpeg:https://wabainc.com/wp-content/uploads/2016/11/EVENTS-05b.jpg
END:VEVENT
BEGIN:VEVENT
DTSTART;TZID=Australia/Perth:20190810T130000
DTEND;TZID=Australia/Perth:20190810T230000
DTSTAMP:20260424T104642
CREATED:20190409T143304Z
LAST-MODIFIED:20190409T143645Z
UID:3330-1565442000-1565478000@wabainc.com
SUMMARY:WABA Mt. Claremont (Aug)
DESCRIPTION:This event is held on the second Saturday of each month. \nAt our Mt. Claremont meet there are often organised teaching sessions for particular games. You might want to check our Board Game Geek Guild to see if there are any organised sessions at the next meet. \nYou can see a list of all the games we have played so far. \n  \nNote that entry is free if this is your first WABA event.
URL:https://wabainc.com/event/waba-mt-claremont-aug-19/
LOCATION:Mt Claremont Community Centre\, Montgomery Avenue\, Mt Claremont\, WA\, 6010\, Australia
CATEGORIES:WABA Mt. Claremont
ATTACH;FMTTYPE=image/jpeg:https://wabainc.com/wp-content/uploads/2016/11/EVENTS-05b.jpg
END:VEVENT
BEGIN:VEVENT
DTSTART;TZID=Australia/Perth:20190713T130000
DTEND;TZID=Australia/Perth:20190713T230000
DTSTAMP:20260424T104642
CREATED:20190409T142444Z
LAST-MODIFIED:20190409T142537Z
UID:3317-1563022800-1563058800@wabainc.com
SUMMARY:WABA Mt. Claremont (Jul)
DESCRIPTION:This event is held on the second Saturday of each month. \nAt our Mt. Claremont meet there are often organised teaching sessions for particular games. You might want to check our Board Game Geek Guild to see if there are any organised sessions at the next meet. \nYou can see a list of all the games we have played so far. \n  \nNote that entry is free if this is your first WABA event.
URL:https://wabainc.com/event/waba-mt-claremont-jul-19/
LOCATION:Mt Claremont Community Centre\, Montgomery Avenue\, Mt Claremont\, WA\, 6010\, Australia
CATEGORIES:WABA Mt. Claremont
ATTACH;FMTTYPE=image/jpeg:https://wabainc.com/wp-content/uploads/2016/11/EVENTS-05b.jpg
END:VEVENT
BEGIN:VEVENT
DTSTART;TZID=Australia/Perth:20190608T130000
DTEND;TZID=Australia/Perth:20190608T230000
DTSTAMP:20260424T104642
CREATED:20190409T142052Z
LAST-MODIFIED:20190409T142148Z
UID:3313-1559998800-1560034800@wabainc.com
SUMMARY:WABA Mt. Claremont (Jun)
DESCRIPTION:This event is held on the second Saturday of each month. \nAt our Mt. Claremont meet there are often organised teaching sessions for particular games. You might want to check our Board Game Geek Guild to see if there are any organised sessions at the next meet. \nYou can see a list of all the games we have played so far. \n  \nNote that entry is free if this is your first WABA event.
URL:https://wabainc.com/event/waba-mt-claremont-jun-19/
LOCATION:Mt Claremont Community Centre\, Montgomery Avenue\, Mt Claremont\, WA\, 6010\, Australia
CATEGORIES:WABA Mt. Claremont
ATTACH;FMTTYPE=image/jpeg:https://wabainc.com/wp-content/uploads/2016/11/EVENTS-05b.jpg
END:VEVENT
BEGIN:VEVENT
DTSTART;TZID=Australia/Perth:20190511T130000
DTEND;TZID=Australia/Perth:20190511T230000
DTSTAMP:20260424T104642
CREATED:20190409T141630Z
LAST-MODIFIED:20190409T142040Z
UID:3307-1557579600-1557615600@wabainc.com
SUMMARY:WABA Mt. Claremont (May)
DESCRIPTION:This event is held on the second Saturday of each month. \nAt our Mt. Claremont meet there are often organised teaching sessions for particular games. You might want to check our Board Game Geek Guild to see if there are any organised sessions at the next meet. \nYou can see a list of all the games we have played so far. \n  \nNote that entry is free if this is your first WABA event.
URL:https://wabainc.com/event/waba-mt-claremont-may-19/
LOCATION:Mt Claremont Community Centre\, Montgomery Avenue\, Mt Claremont\, WA\, 6010\, Australia
CATEGORIES:WABA Mt. Claremont
ATTACH;FMTTYPE=image/jpeg:https://wabainc.com/wp-content/uploads/2016/11/EVENTS-05b.jpg
END:VEVENT
BEGIN:VEVENT
DTSTART;TZID=Australia/Perth:20190413T130000
DTEND;TZID=Australia/Perth:20190413T230000
DTSTAMP:20260424T104642
CREATED:20190409T141149Z
LAST-MODIFIED:20190409T141149Z
UID:3303-1555160400-1555196400@wabainc.com
SUMMARY:WABA Mt. Claremont (apr)
DESCRIPTION:This event is held on the second Saturday of each month. \nAt our Mt. Claremont meet there are often organised teaching sessions for particular games. You might want to check our Board Game Geek Guild to see if there are any organised sessions at the next meet. \nYou can see a list of all the games we have played so far. \n  \nNote that entry is free if this is your first WABA event.
URL:https://wabainc.com/event/waba-mt-claremont-nov-6-2/
LOCATION:Mt Claremont Community Centre\, Montgomery Avenue\, Mt Claremont\, WA\, 6010\, Australia
CATEGORIES:WABA Mt. Claremont
ATTACH;FMTTYPE=image/jpeg:https://wabainc.com/wp-content/uploads/2016/11/EVENTS-05b.jpg
END:VEVENT
BEGIN:VEVENT
DTSTART;TZID=Australia/Perth:20190309T130000
DTEND;TZID=Australia/Perth:20190309T230000
DTSTAMP:20260424T104642
CREATED:20190409T143118Z
LAST-MODIFIED:20190409T143118Z
UID:3324-1552136400-1552172400@wabainc.com
SUMMARY:WABA Mt. Claremont (mar)
DESCRIPTION:This event is held on the second Saturday of each month. \nAt our Mt. Claremont meet there are often organised teaching sessions for particular games. You might want to check our Board Game Geek Guild to see if there are any organised sessions at the next meet. \nYou can see a list of all the games we have played so far. \n  \nNote that entry is free if this is your first WABA event.
URL:https://wabainc.com/event/waba-mt-claremont-nov-5-2/
LOCATION:Mt Claremont Community Centre\, Montgomery Avenue\, Mt Claremont\, WA\, 6010\, Australia
CATEGORIES:WABA Mt. Claremont
ATTACH;FMTTYPE=image/jpeg:https://wabainc.com/wp-content/uploads/2016/11/EVENTS-05b.jpg
END:VEVENT
BEGIN:VEVENT
DTSTART;TZID=Australia/Perth:20190209T130000
DTEND;TZID=Australia/Perth:20190209T230000
DTSTAMP:20260424T104642
CREATED:20190409T142624Z
LAST-MODIFIED:20190409T142704Z
UID:3319-1549717200-1549753200@wabainc.com
SUMMARY:WABA Mt. Claremont (Feb)
DESCRIPTION:This event is held on the second Saturday of each month. \nAt our Mt. Claremont meet there are often organised teaching sessions for particular games. You might want to check our Board Game Geek Guild to see if there are any organised sessions at the next meet. \nYou can see a list of all the games we have played so far. \n  \nNote that entry is free if this is your first WABA event.
URL:https://wabainc.com/event/waba-mt-claremont-feb-19/
LOCATION:Mt Claremont Community Centre\, Montgomery Avenue\, Mt Claremont\, WA\, 6010\, Australia
CATEGORIES:WABA Mt. Claremont
ATTACH;FMTTYPE=image/jpeg:https://wabainc.com/wp-content/uploads/2016/11/EVENTS-05b.jpg
END:VEVENT
BEGIN:VEVENT
DTSTART;TZID=Australia/Perth:20190112T130000
DTEND;TZID=Australia/Perth:20190112T230000
DTSTAMP:20260424T104642
CREATED:20171018T122927Z
LAST-MODIFIED:20190918T132730Z
UID:3224-1547298000-1547334000@wabainc.com
SUMMARY:WABA Mt. Claremont (Jan)
DESCRIPTION:This event is held on the second Saturday of each month. \nAt our Mt. Claremont meet there are often organised teaching sessions for particular games. You might want to check our Board Game Geek Guild to see if there are any organised sessions at the next meet. \nYou can see a list of all the games we have played so far. \n  \nNote that entry is free if this is your first WABA event.
URL:https://wabainc.com/event/waba-mt-claremont-jan-3/
LOCATION:Mt Claremont Community Centre\, Montgomery Avenue\, Mt Claremont\, WA\, 6010\, Australia
CATEGORIES:WABA Mt. Claremont
ATTACH;FMTTYPE=image/jpeg:https://wabainc.com/wp-content/uploads/2016/11/EVENTS-05b.jpg
END:VEVENT
BEGIN:VEVENT
DTSTART;TZID=Australia/Perth:20181208T110000
DTEND;TZID=Australia/Perth:20181208T230000
DTSTAMP:20260424T104642
CREATED:20181205T053239Z
LAST-MODIFIED:20181205T053902Z
UID:3293-1544266800-1544310000@wabainc.com
SUMMARY:D-Con 2018
DESCRIPTION:This is our last and biggest boardgaming meet of 2018! Please note the extended hours and other differences and events as will be highlighted. \nCome play modern boardgames\, learning new games or revisiting favourite ones. WABA meets on the second Saturday of every month at the Mt Claremont Community Centre (Banksia Room) 107 Montgomery Avenue Mt Claremont. \nD-Con 2018 is free for WABA members and first-timers to a WABA meet (only $5 otherwise). There will be tournaments and door prizes throughout the day. For more details\, see https://boardgamegeek.com/thread/2093411/waba-d-con-2018/page/1 \nFind us on BoardGameGeek at https://boardgamegeek.com/guild/308
URL:https://wabainc.com/event/d-con-2018-waba-mt-claremont/
LOCATION:Mt Claremont Community Centre\, Montgomery Avenue\, Mt Claremont\, WA\, 6010\, Australia
CATEGORIES:WABA Mt. Claremont
ATTACH;FMTTYPE=image/jpeg:https://wabainc.com/wp-content/uploads/2016/12/D-Con-07.jpeg
END:VEVENT
BEGIN:VEVENT
DTSTART;TZID=Australia/Perth:20181110T130000
DTEND;TZID=Australia/Perth:20181110T230000
DTSTAMP:20260424T104642
CREATED:20171018T122856Z
LAST-MODIFIED:20180108T004119Z
UID:3223-1541854800-1541890800@wabainc.com
SUMMARY:WABA Mt. Claremont (nov)
DESCRIPTION:This event is held on the second Saturday of each month. \nAt our Mt. Claremont meet there are often organised teaching sessions for particular games. You might want to check our Board Game Geek Guild to see if there are any organised sessions at the next meet. \nYou can see a list of all the games we have played so far. \n  \nNote that entry is free if this is your first WABA event.
URL:https://wabainc.com/event/waba-mt-claremont-nov-13/
LOCATION:Mt Claremont Community Centre\, Montgomery Avenue\, Mt Claremont\, WA\, 6010\, Australia
CATEGORIES:WABA Mt. Claremont
ATTACH;FMTTYPE=image/jpeg:https://wabainc.com/wp-content/uploads/2016/11/EVENTS-05b.jpg
END:VEVENT
BEGIN:VEVENT
DTSTART;TZID=Australia/Perth:20181013T130000
DTEND;TZID=Australia/Perth:20181013T230000
DTSTAMP:20260424T104642
CREATED:20171018T122828Z
LAST-MODIFIED:20180108T004126Z
UID:3222-1539435600-1539471600@wabainc.com
SUMMARY:WABA Mt. Claremont (oct)
DESCRIPTION:This event is held on the second Saturday of each month. \nAt our Mt. Claremont meet there are often organised teaching sessions for particular games. You might want to check our Board Game Geek Guild to see if there are any organised sessions at the next meet. \nYou can see a list of all the games we have played so far. \n  \nNote that entry is free if this is your first WABA event.
URL:https://wabainc.com/event/waba-mt-claremont-nov-12/
LOCATION:Mt Claremont Community Centre\, Montgomery Avenue\, Mt Claremont\, WA\, 6010\, Australia
CATEGORIES:WABA Mt. Claremont
ATTACH;FMTTYPE=image/jpeg:https://wabainc.com/wp-content/uploads/2016/11/EVENTS-05b.jpg
END:VEVENT
BEGIN:VEVENT
DTSTART;TZID=Australia/Perth:20180908T130000
DTEND;TZID=Australia/Perth:20180908T230000
DTSTAMP:20260424T104642
CREATED:20171018T122804Z
LAST-MODIFIED:20180108T004132Z
UID:3221-1536411600-1536447600@wabainc.com
SUMMARY:WABA Mt. Claremont (sept)
DESCRIPTION:This event is held on the second Saturday of each month. \nAt our Mt. Claremont meet there are often organised teaching sessions for particular games. You might want to check our Board Game Geek Guild to see if there are any organised sessions at the next meet. \nYou can see a list of all the games we have played so far. \n  \nNote that entry is free if this is your first WABA event.
URL:https://wabainc.com/event/waba-mt-claremont-nov-11/
LOCATION:Mt Claremont Community Centre\, Montgomery Avenue\, Mt Claremont\, WA\, 6010\, Australia
CATEGORIES:WABA Mt. Claremont
ATTACH;FMTTYPE=image/jpeg:https://wabainc.com/wp-content/uploads/2016/11/EVENTS-05b.jpg
END:VEVENT
BEGIN:VEVENT
DTSTART;TZID=Australia/Perth:20180811T130000
DTEND;TZID=Australia/Perth:20180811T230000
DTSTAMP:20260424T104642
CREATED:20171018T122740Z
LAST-MODIFIED:20180108T004139Z
UID:3220-1533992400-1534028400@wabainc.com
SUMMARY:WABA Mt. Claremont (aug)
DESCRIPTION:This event is held on the second Saturday of each month. \nAt our Mt. Claremont meet there are often organised teaching sessions for particular games. You might want to check our Board Game Geek Guild to see if there are any organised sessions at the next meet. \nYou can see a list of all the games we have played so far. \n  \nNote that entry is free if this is your first WABA event.
URL:https://wabainc.com/event/waba-mt-claremont-nov-10/
LOCATION:Mt Claremont Community Centre\, Montgomery Avenue\, Mt Claremont\, WA\, 6010\, Australia
CATEGORIES:WABA Mt. Claremont
ATTACH;FMTTYPE=image/jpeg:https://wabainc.com/wp-content/uploads/2016/11/EVENTS-05b.jpg
END:VEVENT
BEGIN:VEVENT
DTSTART;TZID=Australia/Perth:20180714T130000
DTEND;TZID=Australia/Perth:20180714T230000
DTSTAMP:20260424T104642
CREATED:20171018T122716Z
LAST-MODIFIED:20180108T004144Z
UID:3219-1531573200-1531609200@wabainc.com
SUMMARY:WABA Mt. Claremont (jul)
DESCRIPTION:This event is held on the second Saturday of each month. \nAt our Mt. Claremont meet there are often organised teaching sessions for particular games. You might want to check our Board Game Geek Guild to see if there are any organised sessions at the next meet. \nYou can see a list of all the games we have played so far. \n  \nNote that entry is free if this is your first WABA event.
URL:https://wabainc.com/event/waba-mt-claremont-nov-9/
LOCATION:Mt Claremont Community Centre\, Montgomery Avenue\, Mt Claremont\, WA\, 6010\, Australia
CATEGORIES:WABA Mt. Claremont
ATTACH;FMTTYPE=image/jpeg:https://wabainc.com/wp-content/uploads/2016/11/EVENTS-05b.jpg
END:VEVENT
BEGIN:VEVENT
DTSTART;TZID=Australia/Perth:20180609T130000
DTEND;TZID=Australia/Perth:20180609T230000
DTSTAMP:20260424T104642
CREATED:20171018T122650Z
LAST-MODIFIED:20180108T004150Z
UID:3218-1528549200-1528585200@wabainc.com
SUMMARY:WABA Mt. Claremont (jun)
DESCRIPTION:This event is held on the second Saturday of each month. \nAt our Mt. Claremont meet there are often organised teaching sessions for particular games. You might want to check our Board Game Geek Guild to see if there are any organised sessions at the next meet. \nYou can see a list of all the games we have played so far. \n  \nNote that entry is free if this is your first WABA event.
URL:https://wabainc.com/event/waba-mt-claremont-nov-8/
LOCATION:Mt Claremont Community Centre\, Montgomery Avenue\, Mt Claremont\, WA\, 6010\, Australia
CATEGORIES:WABA Mt. Claremont
ATTACH;FMTTYPE=image/jpeg:https://wabainc.com/wp-content/uploads/2016/11/EVENTS-05b.jpg
END:VEVENT
END:VCALENDAR